BEGIN:VCALENDAR
VERSION:2.0
PRODID:-//Faclab - ECPv6.15.16//NONSGML v1.0//EN
CALSCALE:GREGORIAN
METHOD:PUBLISH
X-WR-CALNAME:Faclab
X-ORIGINAL-URL:https://www.faclab.org
X-WR-CALDESC:Évènements pour Faclab
REFRESH-INTERVAL;VALUE=DURATION:PT1H
X-Robots-Tag:noindex
X-PUBLISHED-TTL:PT1H
BEGIN:VTIMEZONE
TZID:Europe/Paris
BEGIN:DAYLIGHT
TZOFFSETFROM:+0100
TZOFFSETTO:+0200
TZNAME:CEST
DTSTART:20240331T010000
END:DAYLIGHT
BEGIN:STANDARD
TZOFFSETFROM:+0200
TZOFFSETTO:+0100
TZNAME:CET
DTSTART:20241027T010000
END:STANDARD
BEGIN:DAYLIGHT
TZOFFSETFROM:+0100
TZOFFSETTO:+0200
TZNAME:CEST
DTSTART:20250330T010000
END:DAYLIGHT
BEGIN:STANDARD
TZOFFSETFROM:+0200
TZOFFSETTO:+0100
TZNAME:CET
DTSTART:20251026T010000
END:STANDARD
BEGIN:DAYLIGHT
TZOFFSETFROM:+0100
TZOFFSETTO:+0200
TZNAME:CEST
DTSTART:20260329T010000
END:DAYLIGHT
BEGIN:STANDARD
TZOFFSETFROM:+0200
TZOFFSETTO:+0100
TZNAME:CET
DTSTART:20261025T010000
END:STANDARD
END:VTIMEZONE
BEGIN:VEVENT
DTSTART;TZID=Europe/Paris:20250213T100000
DTEND;TZID=Europe/Paris:20250213T170000
DTSTAMP:20260426T052017
CREATED:20250122T090124Z
LAST-MODIFIED:20250122T090124Z
UID:7338-1739440800-1739466000@www.faclab.org
SUMMARY:Initiation Impression 3D Céramique
DESCRIPTION:ATTENTION : une inscription au FacLab est nécessaire avant de participer à l’atelier\, toutes les infos sont ici. \nl’initiation se déroule en plusieurs temps sur la journée de 10h à 13h puis de 14h à 17h\n– préparation de la terre\n– mise en route de l’imprimante\n– réglages d’impression d’un volume dans le slicer Cura\n– test et impression sur la machine\n– nettoyage de la machine et de l’atelier \n 
URL:https://www.faclab.org/programme/initiation-impression-3d-ceramique-5/
CATEGORIES:Ateliers & initiations
END:VEVENT
END:VCALENDAR