BEGIN:VCALENDAR
VERSION:2.0
PRODID:-//Faclab - ECPv6.15.16//NONSGML v1.0//EN
CALSCALE:GREGORIAN
METHOD:PUBLISH
X-WR-CALNAME:Faclab
X-ORIGINAL-URL:https://www.faclab.org
X-WR-CALDESC:Évènements pour Faclab
REFRESH-INTERVAL;VALUE=DURATION:PT1H
X-Robots-Tag:noindex
X-PUBLISHED-TTL:PT1H
BEGIN:VTIMEZONE
TZID:Europe/Paris
BEGIN:DAYLIGHT
TZOFFSETFROM:+0100
TZOFFSETTO:+0200
TZNAME:CEST
DTSTART:20250330T010000
END:DAYLIGHT
BEGIN:STANDARD
TZOFFSETFROM:+0200
TZOFFSETTO:+0100
TZNAME:CET
DTSTART:20251026T010000
END:STANDARD
BEGIN:DAYLIGHT
TZOFFSETFROM:+0100
TZOFFSETTO:+0200
TZNAME:CEST
DTSTART:20260329T010000
END:DAYLIGHT
BEGIN:STANDARD
TZOFFSETFROM:+0200
TZOFFSETTO:+0100
TZNAME:CET
DTSTART:20261025T010000
END:STANDARD
BEGIN:DAYLIGHT
TZOFFSETFROM:+0100
TZOFFSETTO:+0200
TZNAME:CEST
DTSTART:20270328T010000
END:DAYLIGHT
BEGIN:STANDARD
TZOFFSETFROM:+0200
TZOFFSETTO:+0100
TZNAME:CET
DTSTART:20271031T010000
END:STANDARD
END:VTIMEZONE
BEGIN:VEVENT
DTSTART;TZID=Europe/Paris:20260513T140000
DTEND;TZID=Europe/Paris:20260513T190000
DTSTAMP:20260422T123249
CREATED:20260421T085017Z
LAST-MODIFIED:20260421T085215Z
UID:10464-1778680800-1778698800@www.faclab.org
SUMMARY:Riso-nance émotionnelle
DESCRIPTION:ATTENTION : une inscription au FacLab est nécessaire avant de participer à l’atelier\, toutes les infos sont ici. \n  \nCet atelier propose une exploration graphique des émotions à travers la découverte de la technique d’impression risographie (entre photocopieur et sérigraphie). En s’appuyant sur un système de formes préexistantes chaque émotion est traduite en une forme spécifique et une couleur que les participant·e·s utiliseront pour réaliser des compositions. \n  \nL’enjeu n’est donc pas de créer une forme\, mais de faire évoluer une représentation graphique des émotions par la superposition de couches d’impression. \nTout en découvrant la technique riso au FacLab\, riche en possibilités graphiques et éditoriales\, les participant·e·s expérimentent la rencontre des formes et des couleurs afin de mettre en lumière la complexité des états émotionnels et de susciter les échanges.
URL:https://www.faclab.org/programme/riso-nance-emotionnelle/
CATEGORIES:Ateliers & initiations
END:VEVENT
END:VCALENDAR