BEGIN:VCALENDAR
VERSION:2.0
PRODID:-//Faclab - ECPv6.15.16//NONSGML v1.0//EN
CALSCALE:GREGORIAN
METHOD:PUBLISH
X-WR-CALNAME:Faclab
X-ORIGINAL-URL:https://www.faclab.org
X-WR-CALDESC:Évènements pour Faclab
REFRESH-INTERVAL;VALUE=DURATION:PT1H
X-Robots-Tag:noindex
X-PUBLISHED-TTL:PT1H
BEGIN:VTIMEZONE
TZID:Europe/Paris
BEGIN:DAYLIGHT
TZOFFSETFROM:+0100
TZOFFSETTO:+0200
TZNAME:CEST
DTSTART:20200329T010000
END:DAYLIGHT
BEGIN:STANDARD
TZOFFSETFROM:+0200
TZOFFSETTO:+0100
TZNAME:CET
DTSTART:20201025T010000
END:STANDARD
BEGIN:DAYLIGHT
TZOFFSETFROM:+0100
TZOFFSETTO:+0200
TZNAME:CEST
DTSTART:20210328T010000
END:DAYLIGHT
BEGIN:STANDARD
TZOFFSETFROM:+0200
TZOFFSETTO:+0100
TZNAME:CET
DTSTART:20211031T010000
END:STANDARD
BEGIN:DAYLIGHT
TZOFFSETFROM:+0100
TZOFFSETTO:+0200
TZNAME:CEST
DTSTART:20220327T010000
END:DAYLIGHT
BEGIN:STANDARD
TZOFFSETFROM:+0200
TZOFFSETTO:+0100
TZNAME:CET
DTSTART:20221030T010000
END:STANDARD
END:VTIMEZONE
BEGIN:VEVENT
DTSTART;TZID=Europe/Paris:20211125T173000
DTEND;TZID=Europe/Paris:20211125T200000
DTSTAMP:20260422T233723
CREATED:20211122T105934Z
LAST-MODIFIED:20211122T105934Z
UID:4035-1637861400-1637870400@www.faclab.org
SUMMARY:Table ronde les Fablabs de demain
DESCRIPTION:Table ronde « les Fablabs de demain » organisée par Cédric et Christophe étudiants Diplôme universitaire Métier Facilitateur et animée par Eve Loiseau (SimplonLab) et Alexandre Bigot Verdier (PopCafé)
URL:https://www.faclab.org/programme/table-ronde-les-fablabs-de-demain/
CATEGORIES:D.U. Métier Facilitateur
END:VEVENT
END:VCALENDAR